BEGIN:VCALENDAR
VERSION:2.0
PRODID:-//ecwesterveld.nl - ECPv6.15.20//NONSGML v1.0//EN
CALSCALE:GREGORIAN
METHOD:PUBLISH
X-ORIGINAL-URL:https://www.ecwesterveld.nl
X-WR-CALDESC:Evenementen voor ecwesterveld.nl
REFRESH-INTERVAL;VALUE=DURATION:PT1H
X-Robots-Tag:noindex
X-PUBLISHED-TTL:PT1H
BEGIN:VTIMEZONE
TZID:Europe/Amsterdam
BEGIN:DAYLIGHT
TZOFFSETFROM:+0100
TZOFFSETTO:+0200
TZNAME:CEST
DTSTART:20180325T010000
END:DAYLIGHT
BEGIN:STANDARD
TZOFFSETFROM:+0200
TZOFFSETTO:+0100
TZNAME:CET
DTSTART:20181028T010000
END:STANDARD
BEGIN:DAYLIGHT
TZOFFSETFROM:+0100
TZOFFSETTO:+0200
TZNAME:CEST
DTSTART:20190331T010000
END:DAYLIGHT
BEGIN:STANDARD
TZOFFSETFROM:+0200
TZOFFSETTO:+0100
TZNAME:CET
DTSTART:20191027T010000
END:STANDARD
BEGIN:DAYLIGHT
TZOFFSETFROM:+0100
TZOFFSETTO:+0200
TZNAME:CEST
DTSTART:20200329T010000
END:DAYLIGHT
BEGIN:STANDARD
TZOFFSETFROM:+0200
TZOFFSETTO:+0100
TZNAME:CET
DTSTART:20201025T010000
END:STANDARD
BEGIN:DAYLIGHT
TZOFFSETFROM:+0100
TZOFFSETTO:+0200
TZNAME:CEST
DTSTART:20210328T010000
END:DAYLIGHT
BEGIN:STANDARD
TZOFFSETFROM:+0200
TZOFFSETTO:+0100
TZNAME:CET
DTSTART:20211031T010000
END:STANDARD
BEGIN:DAYLIGHT
TZOFFSETFROM:+0100
TZOFFSETTO:+0200
TZNAME:CEST
DTSTART:20220327T010000
END:DAYLIGHT
BEGIN:STANDARD
TZOFFSETFROM:+0200
TZOFFSETTO:+0100
TZNAME:CET
DTSTART:20221030T010000
END:STANDARD
END:VTIMEZONE
BEGIN:VTIMEZONE
TZID:UTC
BEGIN:STANDARD
TZOFFSETFROM:+0000
TZOFFSETTO:+0000
TZNAME:UTC
DTSTART:20180101T000000
END:STANDARD
END:VTIMEZONE
BEGIN:VEVENT
DTSTART;TZID=Europe/Amsterdam:20210216T193000
DTEND;TZID=Europe/Amsterdam:20210216T210000
DTSTAMP:20260425T200803
CREATED:20210114T183826Z
LAST-MODIFIED:20210114T183826Z
UID:1149-1613503800-1613509200@www.ecwesterveld.nl
SUMMARY:Algemene Leden Vergadering
DESCRIPTION:Op 16 Februari staat er weer een Algemene Leden Vergadering gepland.\nDeze zal om 19:30 beginnen en wordt gehouden via Skype. \nMeer informatie over deze skype wordt zo snel mogelijk verstuurd aan de leden!
URL:https://www.ecwesterveld.nl/event/algemene-leden-vergadering/
LOCATION:Skype
END:VEVENT
BEGIN:VEVENT
DTSTART;TZID=Europe/Amsterdam:20201107T110000
DTEND;TZID=Europe/Amsterdam:20201107T160000
DTSTAMP:20260425T200803
CREATED:20200930T192614Z
LAST-MODIFIED:20201014T122017Z
UID:1029-1604746800-1604764800@www.ecwesterveld.nl
SUMMARY:Energiecafé (GEANNULEERD ivm nieuwe Corona maatregelen)
DESCRIPTION:Op zaterdag 7 November organiseert Energie Coöperatie Westerveld de eerste Energiecafé in de gemeente Westerveld in Over Entinghe te Dwingeloo. \nEea zal worden georganiseerd volgens de laatste Corona regels.\nMeer informatie volgt zsm. \nVoor meer informatie mbt de annulering klik <hier>:
URL:https://www.ecwesterveld.nl/event/energiecafe/
LOCATION:Over Enthinghe\, Entingheweg 13\, Dwingeloo\, Drenthe\, 7991CB\, Nederland
END:VEVENT
BEGIN:VEVENT
DTSTART;TZID=Europe/Amsterdam:20191201T110000
DTEND;TZID=Europe/Amsterdam:20191201T160000
DTSTAMP:20260425T200803
CREATED:20190910T191113Z
LAST-MODIFIED:20190911T062259Z
UID:464-1575198000-1575216000@www.ecwesterveld.nl
SUMMARY:OndernemersFair Westerveld 2019 dag 2
DESCRIPTION:
URL:https://www.ecwesterveld.nl/event/ondernemersfair-westerveld-dag-2/
LOCATION:Stad & Esch Diever\, Westeres 7\, Diever\, 7981 BC\, Nederland
END:VEVENT
BEGIN:VEVENT
DTSTART;TZID=Europe/Amsterdam:20191130T130000
DTEND;TZID=Europe/Amsterdam:20191130T170000
DTSTAMP:20260425T200803
CREATED:20190910T190800Z
LAST-MODIFIED:20190910T191221Z
UID:462-1575118800-1575133200@www.ecwesterveld.nl
SUMMARY:Ondernemersfair Westerveld 2019 dag1
DESCRIPTION:
URL:https://www.ecwesterveld.nl/event/ondernemersfair-westerveld-2019/
LOCATION:Stad & Esch Diever\, Westeres 7\, Diever\, 7981 BC\, Nederland
END:VEVENT
BEGIN:VEVENT
DTSTART;TZID=Europe/Amsterdam:20191129T080000
DTEND;TZID=Europe/Amsterdam:20191129T170000
DTSTAMP:20260425T200803
CREATED:20190911T060559Z
LAST-MODIFIED:20190911T062601Z
UID:468-1575014400-1575046800@www.ecwesterveld.nl
SUMMARY:Evenement HIER opgewekt
DESCRIPTION:
URL:https://www.ecwesterveld.nl/event/evenement-hier-opgewekt/
LOCATION:’t Spant Bussem\, Doctor Abraham Kuyperlaan 3\, Bussem\, 1402 SB\, Nederland
END:VEVENT
BEGIN:VEVENT
DTSTART;TZID=Europe/Amsterdam:20191014T170000
DTEND;TZID=Europe/Amsterdam:20191014T193000
DTSTAMP:20260425T200803
CREATED:20191003T135639Z
LAST-MODIFIED:20191003T140218Z
UID:621-1571072400-1571081400@www.ecwesterveld.nl
SUMMARY:Discussie met NMF Drenthe over Energiecoaches
DESCRIPTION:Op 14 oktober organiseert de NMF Drenthe een bijeenkomst met diverse organisaties en coöperaties over de ontwikkelingen met betrekking tot de invoering van energiecoaches in de provincie. De EC/W\, die zich heeft ingezet om het systeem van energiecoaches in de gemeente Westerveld op te zetten\,  zal hierbij aanwezig zijn om verslag te doen van de ervaringen tot nu toe.
URL:https://www.ecwesterveld.nl/event/discussie-met-nmfd-over-energiecoaches/
LOCATION:Bosrand 2\, Assen\, Bosrand 2\, Assen\, 9401 SL\, Nederland
END:VEVENT
BEGIN:VEVENT
DTSTART;TZID=Europe/Amsterdam:20190924T193000
DTEND;TZID=Europe/Amsterdam:20190924T210000
DTSTAMP:20260425T200803
CREATED:20190918T080258Z
LAST-MODIFIED:20190918T080444Z
UID:536-1569353400-1569358800@www.ecwesterveld.nl
SUMMARY:Buurkracht bewoners avond voor Vledder
DESCRIPTION:De organisatie Buurkracht Vledder voert een project uit voor zonnepanelen op eigen terrein. Tevens wordt een tipje van de sluier opgelicht over een zonneproject van EC/Westerveld op Stad & Esch.
URL:https://www.ecwesterveld.nl/event/buurkracht-bewoners-avond-voor-vledder/
LOCATION:de tippe vledder\, Lesturgeonplein 5\, Vledder\, 8381BX\, Nederland
END:VEVENT
BEGIN:VEVENT
DTSTART;TZID=UTC:20190917T193000
DTEND;TZID=UTC:20190917T210000
DTSTAMP:20260425T200803
CREATED:20190717T115237Z
LAST-MODIFIED:20190718T112750Z
UID:244-1568748600-1568754000@www.ecwesterveld.nl
SUMMARY:Buurkracht bewonersavond voor Diever
DESCRIPTION:De organisatie Buurkracht voert samen met EC/Westerveld een project uit voor zonnepanelen op eigen terrein. Tevens wordt een tipje van de sluier opgelicht over een zonneproject op Stad & Esch.
URL:https://www.ecwesterveld.nl/event/buurkracht-bewonersavond-diever/
LOCATION:Stad & Esch Diever\, Westeres 7\, Diever\, 7981 BC\, Nederland
END:VEVENT
BEGIN:VEVENT
DTSTART;TZID=Europe/Amsterdam:20190627T153000
DTEND;TZID=Europe/Amsterdam:20190627T180000
DTSTAMP:20260425T200803
CREATED:20190621T051433Z
LAST-MODIFIED:20190717T120252Z
UID:147-1561649400-1561658400@www.ecwesterveld.nl
SUMMARY:Netwerkcafé participatie bij zonneparken
DESCRIPTION:
URL:https://www.ecwesterveld.nl/event/netwerkcafe-participatie-bij-zonneparken/
LOCATION:Provinciehuis Drenthe\, Westerbrink 1\, Assen\, Nederland
END:VEVENT
END:VCALENDAR